BEGIN:VCALENDAR
VERSION:2.0
PRODID:aeffnerstephanie.de
METHOD:PUBLISH
BEGIN:VTIMEZONE
TZID:Europe/Berlin
X-LIC-LOCATION:Europe/Berlin
BEGIN:DAYLIGHT
TZOFFSETFROM:+0100
TZOFFSETTO:+0200
TZNAME:CEST
DTSTART:19700329T020000
RRULE:FREQ=YEARLY;INTERVAL=1;BYDAY=-1SU;BYMONTH=3
END:DAYLIGHT
BEGIN:STANDARD
TZOFFSETFROM:+0200
TZOFFSETTO:+0100
TZNAME:CET
DTSTART:19701025T030000
RRULE:FREQ=YEARLY;INTERVAL=1;BYDAY=-1SU;BYMONTH=10
END:STANDARD
END:VTIMEZONE
BEGIN:VEVENT
UID:54796054b30f5ceee6990568f886b7e6@aeffnerstephanie.de
URL;VALUE=URI:https://aeffnerstephanie.de/termine/aufwachsen-in-tuebingen
 /
LOCATION:Tübingen
SUMMARY:Aufwachsen in Tübingen
DESCRIPTION;ALTREP="data:text/html,%0A%3Cp%3EZur%20Lebenssituation%20von%
 20Kindern%20und%20Jugendlichen%20in%20T%C3%BCbingen%20%3C%2Fp%3E%0A%0A%0A
 %0A%3Cp%3EMit%20Stephanie%20Aeffner%20MdB%3C%2Fp%3E%0A%0A%0A%0A%3Cp%3Eam%
 20Mittwoch%2C%20den%208.5.2024%20um%2018.00%20Uhr%3C%2Fp%3E%0A%0A%0A%0A%3
 Cp%3E%E2%80%9EWestspitze%E2%80%9C%2C%20Seminarraum%20West%2C%206.%20OG%3C
 %2Fp%3E%0A":Zur Lebenssituation von Kindern und Jugendlichen in Tübingen
 \n\nMit Stephanie Aeffner MdB\n\nam Mittwoch\, den 8.5.2024 um 18.00 Uhr\
 n\n„Westspitze“\, Seminarraum West\, 6. OG
CLASS:PUBLIC
DTSTART;TZID=Europe/Berlin:20240508T180000
DTEND;TZID=Europe/Berlin:20240508T190000
DTSTAMP:20260421T040936
END:VEVENT
END:VCALENDAR