BEGIN:VCALENDAR
VERSION:2.0
PRODID:aeffnerstephanie.de
METHOD:PUBLISH
BEGIN:VTIMEZONE
TZID:Europe/Berlin
X-LIC-LOCATION:Europe/Berlin
BEGIN:DAYLIGHT
TZOFFSETFROM:+0100
TZOFFSETTO:+0200
TZNAME:CEST
DTSTART:19700329T020000
RRULE:FREQ=YEARLY;INTERVAL=1;BYDAY=-1SU;BYMONTH=3
END:DAYLIGHT
BEGIN:STANDARD
TZOFFSETFROM:+0200
TZOFFSETTO:+0100
TZNAME:CET
DTSTART:19701025T030000
RRULE:FREQ=YEARLY;INTERVAL=1;BYDAY=-1SU;BYMONTH=10
END:STANDARD
END:VTIMEZONE
BEGIN:VEVENT
UID:398724e52c1181815c08d74cf6ca03ac@aeffnerstephanie.de
URL;VALUE=URI:https://aeffnerstephanie.de/termine/barrierefreiheit-als-st
 andortfaktor-und-vorteil-fuer-alle/
LOCATION:Bahnhofsaal, Burladingen
SUMMARY:Barrierefreiheit als Standortfaktor und Vorteil für alle
DESCRIPTION;ALTREP="data:text/html,%0A%3Cp%3EMeet%20and%20Greet%20mit%20S
 tephanie%20Aeffner%2C%20MdB%20%3C%2Fp%3E%0A%0A%0A%0A%3Cp%3EMittwoch%2C%20
 den%208.%20Mai%202024%20um%2010%3A30%20%3C%2Fp%3E%0A%0A%0A%0A%3Cp%3EBahnh
 ofsaal%20Burladingen%3C%2Fp%3E%0A%0A%0A%0A%3Cp%3E%3C%2Fp%3E%0A":Meet and 
 Greet mit Stephanie Aeffner\, MdB\n\nMittwoch\, den 8. Mai 2024 um 10:30\
 n\nBahnhofsaal Burladingen
CLASS:PUBLIC
DTSTART;TZID=Europe/Berlin:20240508T103000
DTEND;TZID=Europe/Berlin:20240508T113000
DTSTAMP:20260421T041359
END:VEVENT
END:VCALENDAR