BEGIN:VCALENDAR
VERSION:2.0
PRODID:aeffnerstephanie.de
METHOD:PUBLISH
BEGIN:VTIMEZONE
TZID:Europe/Berlin
X-LIC-LOCATION:Europe/Berlin
BEGIN:DAYLIGHT
TZOFFSETFROM:+0100
TZOFFSETTO:+0200
TZNAME:CEST
DTSTART:19700329T020000
RRULE:FREQ=YEARLY;INTERVAL=1;BYDAY=-1SU;BYMONTH=3
END:DAYLIGHT
BEGIN:STANDARD
TZOFFSETFROM:+0200
TZOFFSETTO:+0100
TZNAME:CET
DTSTART:19701025T030000
RRULE:FREQ=YEARLY;INTERVAL=1;BYDAY=-1SU;BYMONTH=10
END:STANDARD
END:VTIMEZONE
BEGIN:VEVENT
UID:5f3741e62ae3900a6b4769f078e9e17d@aeffnerstephanie.de
URL;VALUE=URI:https://aeffnerstephanie.de/termine/buergergeld-fakten-stat
 t-fake/
LOCATION:online
SUMMARY:Bürgergeld – Fakten statt Fake
DESCRIPTION;ALTREP="data:text/html,%0A%3Cp%3EOnline-%20Gespr%C3%A4ch%20am
 %20Montag%2C%20den%2019.%20Februar%202023%20um%2020%20Uhr%20%3C%2Fp%3E%0A
 %0A%0A%0A%3Cp%3EMit%20%3Cstrong%3EStephanie%20Aeffner%20%3C%2Fstrong%3EMd
 B%20und%20Beate%20%3Cstrong%3EM%C3%BCller%20Gemmeke%20%3C%2Fstrong%3EMdB.
 %20%3C%2Fp%3E%0A%0A%0A%0A%3Cp%3Ewebinar%20%3Ca%20href%3D%22https%3A%2F%2F
 mailchi.mp%2Fbundestag.de%2Fbuergergeld%22%3EL%C3%84NDesgruppe%20On%20Air
 %20-%20B%C3%BCrgergeld%3C%2Fa%3E%20%3C%2Fp%3E%0A%0A%0A%0A%3Cp%3EEgal%2C%2
 0ob%20es%20um%20den%20Fachkr%C3%A4ftemangel%2C%20um%20Migration%20oder%20
 den%20Haushalt%20geht%20%E2%80%93%20%3Cstrong%3Edas%20B%C3%BCrgergeld%20s
 cheint%20f%C3%BCr%20alle%20Probleme%20verantwortlich%20zu%20sein%3C%2Fstr
 ong%3E.%20Es%20gibt%20Kr%C3%A4fte%2C%20die%20immer%20wieder%20falsche%20B
 ehauptungen%20in%20die%20Welt%20setzen%20und%20mit%20verk%C3%BCrzten%20Be
 ispielen%20die%20Debatte%20anheizen.%20Das%20spaltet%20und%20spielt%20die
 %20Menschen%20gegeneinander%20aus.%3C%2Fp%3E%0A%0A%0A%0A%3Cp%3EDem%20m%C3
 %BCssen%20wir%20etwas%20entgegensetzen.%20Deshalb%20m%C3%BCssen%20wir%20%
 C3%BCber%20das%20B%C3%BCrgergeld%20reden%2C%20die%20Fragen%20beantworten%
 2C%20die%20rund%20um%20das%20Thema%20kreisen.%20Warum%20steigt%20der%20Re
 gelsatz%3F%20Warum%20lohnt%20es%20sich%2C%20zu%20arbeiten%3F%20Wie%20ents
 teht%20Langzeitarbeitslosigkeit%20und%20wie%20k%C3%B6nnen%20wir%20Mensche
 n%20unterst%C3%BCtzen%2C%20Arbeit%20zu%20finden%3F%20%3Cstrong%3EMit%20gu
 ten%20Argumenten%20lassen%20sich%20die%20Angriffe%20leicht%20entkr%C3%A4f
 ten%3C%2Fstrong%3E.%3C%2Fp%3E%0A%0A%0A%0A%3Cp%3EOnline%20-%20Veranstaltun
 g%20in%20der%20Reihe%20%3Ca%20href%3D%22https%3A%2F%2Fmailchi.mp%2Fbundes
 tag.de%2Fbuergergeld%22%3EL%C3%84NDesgruppe%20On%20Air%3C%2Fa%3E%20der%20
 gr%C3%BCnen%20Bundestagsabgeordneten%20aus%20Baden-W%C3%BCrttemberg%3C%2F
 p%3E%0A%0A%0A%0A%3Cp%3E%3C%2Fp%3E%0A":Online- Gespräch am Montag\, den 1
 9. Februar 2023 um 20 Uhr\n\nMit Stephanie Aeffner MdB und Beate Müller 
 Gemmeke MdB.\n\nwebinar LÄNDesgruppe On Air - Bürgergeld\n\nEgal\, ob e
 s um den Fachkräftemangel\, um Migration oder den Haushalt geht – das 
 Bürgergeld scheint für alle Probleme verantwortlich zu sein. Es gibt Kr
 äfte\, die immer wieder falsche Behauptungen in die Welt setzen und mit 
 verkürzten Beispielen die Debatte anheizen. Das spaltet und spielt die M
 enschen gegeneinander aus.\n\nDem müssen wir etwas entgegensetzen. Desha
 lb müssen wir über das Bürgergeld reden\, die Fragen beantworten\, die
  rund um das Thema kreisen. Warum steigt der Regelsatz? Warum lohnt es si
 ch\, zu arbeiten? Wie entsteht Langzeitarbeitslosigkeit und wie können w
 ir Menschen unterstützen\, Arbeit zu finden? Mit guten Argumenten lassen
  sich die Angriffe leicht entkräften.\n\nOnline - Veranstaltung in der R
 eihe LÄNDesgruppe On Air der grünen Bundestagsabgeordneten aus Baden-W
 ürttemberg
CLASS:PUBLIC
DTSTART;TZID=Europe/Berlin:20240219T200000
DTEND;TZID=Europe/Berlin:20240219T210000
DTSTAMP:20260421T041543
END:VEVENT
END:VCALENDAR