BEGIN:VCALENDAR
VERSION:2.0
PRODID:aeffnerstephanie.de
METHOD:PUBLISH
BEGIN:VTIMEZONE
TZID:Europe/Berlin
X-LIC-LOCATION:Europe/Berlin
BEGIN:DAYLIGHT
TZOFFSETFROM:+0100
TZOFFSETTO:+0200
TZNAME:CEST
DTSTART:19700329T020000
RRULE:FREQ=YEARLY;INTERVAL=1;BYDAY=-1SU;BYMONTH=3
END:DAYLIGHT
BEGIN:STANDARD
TZOFFSETFROM:+0200
TZOFFSETTO:+0100
TZNAME:CET
DTSTART:19701025T030000
RRULE:FREQ=YEARLY;INTERVAL=1;BYDAY=-1SU;BYMONTH=10
END:STANDARD
END:VTIMEZONE
BEGIN:VEVENT
UID:5f5a3da0e1f56ac01c244835012997e3@aeffnerstephanie.de
URL;VALUE=URI:https://aeffnerstephanie.de/termine/buergerinnen-sprechstun
 de/
LOCATION:Wahlkreisbüro, Westliche Karl-Friedrich-Str. 28, 75172 Pforzhei
 m
SUMMARY:Bürger*innen-Sprechstunde
DESCRIPTION;ALTREP="data:text/html,%0A%3Cp%3EDie%20Bundestagsabgeordnete%
 20Stephanie%20Aeffner%20bietet%20am%20%3Cstrong%3E23.%20Oktober%202024%20
 %3C%2Fstrong%3EGespr%C3%A4chstermine%20f%C3%BCr%20B%C3%BCrger%2Ainnen%20a
 us%20Pforzheim%20und%20dem%20Enzkreis%20an.%20Bei%20Interesse%20melden%20
 Sie%20sich%20bitte%20vorher%20an%2C%20damit%20wir%20einen%20Termin%20f%C3
 %BCr%20Sie%20einplanen%20k%C3%B6nnen.%3C%2Fp%3E%0A%0A%0A%0A%3Cp%3EBitte%2
 0schicken%20Sie%20ihren%20%3Cstrong%3EGespr%C3%A4chswunsch%20%3C%2Fstrong
 %3Eper%20Email%20an%20das%20Wahlkreisb%C3%BCro%20%3Ca%20href%3D%22mailto%
 3Astephanie.aeffner.wk%40bundestag.de%22%3Estephanie.aeffner.wk%40bundest
 ag.de%3C%2Fa%3E.%20Sie%20k%C3%B6nnen%20Ihr%20Anliegen%20auch%20telefonisc
 h%20anmelden%20unter%2007231%204194%20468%20an.%20Geben%20Sie%20beim%20An
 rufbeantworter%20bitte%20Name%20und%20Telefonnummer%20an%2C%20damit%20wir
 %20Sie%20zur%20Terminabstimmung%20zur%C3%BCckrufen%20k%C3%B6nnen.%3C%2Fp%
 3E%0A":Die Bundestagsabgeordnete Stephanie Aeffner bietet am 23. Oktober 
 2024 Gesprächstermine für Bürger*innen aus Pforzheim und dem Enzkreis 
 an. Bei Interesse melden Sie sich bitte vorher an\, damit wir einen Termi
 n für Sie einplanen können.\n\nBitte schicken Sie ihren Gesprächswunsc
 h per Email an das Wahlkreisbüro stephanie.aeffner.wk@bundestag.de. Sie 
 können Ihr Anliegen auch telefonisch anmelden unter 07231 4194 468 an. G
 eben Sie beim Anrufbeantworter bitte Name und Telefonnummer an\, damit wi
 r Sie zur Terminabstimmung zurückrufen können.
CLASS:PUBLIC
DTSTART;TZID=Europe/Berlin:20241023T150000
DTEND;TZID=Europe/Berlin:20241023T160000
DTSTAMP:20260421T040750
END:VEVENT
END:VCALENDAR