BEGIN:VCALENDAR
VERSION:2.0
PRODID:aeffnerstephanie.de
METHOD:PUBLISH
BEGIN:VTIMEZONE
TZID:Europe/Berlin
X-LIC-LOCATION:Europe/Berlin
BEGIN:DAYLIGHT
TZOFFSETFROM:+0100
TZOFFSETTO:+0200
TZNAME:CEST
DTSTART:19700329T020000
RRULE:FREQ=YEARLY;INTERVAL=1;BYDAY=-1SU;BYMONTH=3
END:DAYLIGHT
BEGIN:STANDARD
TZOFFSETFROM:+0200
TZOFFSETTO:+0100
TZNAME:CET
DTSTART:19701025T030000
RRULE:FREQ=YEARLY;INTERVAL=1;BYDAY=-1SU;BYMONTH=10
END:STANDARD
END:VTIMEZONE
BEGIN:VEVENT
UID:790a433d0d493a9b0f643fe29fc55dff@aeffnerstephanie.de
URL;VALUE=URI:https://aeffnerstephanie.de/termine/demokratie-im-feuer-bed
 rohung-durch-russland/
LOCATION:Kulturhaus Osterfeld, Osterfeldstraße 12, 75172 Pforzheim
SUMMARY:Demokratie im Feuer – Bedrohung durch Russland
DESCRIPTION;ALTREP="data:text/html,%0A%3Cp%20class%3D%22has-text-align-ce
 nter%22%3E%3Cstrong%3EStephanie%20Aeffner%20%3C%2Fstrong%3El%C3%A4dt%20ei
 n%20zum%20Gespr%C3%A4ch%20mit%20dem%20Europaabgeordneten%20%3Cstrong%3ESe
 rgey%20Lagodinsky%20%3C%2Fstrong%3E%3C%2Fp%3E%0A%0A%0A%0A%3Cp%20class%3D%
 22has-text-align-center%22%3E%3Cstrong%3E%22Demokratie%20im%20Feuer%20%E2
 %80%93%20Bedrohung%20durch%20Russland%22%3C%2Fstrong%3E%20%3C%2Fp%3E%0A%0
 A%0A%0A%3Cp%3ESeit%20Jahren%20wird%20immer%20deutlicher%2C%20wie%20Russla
 nd%20versucht%20europ%C3%A4ische%20L%C3%A4nder%20zu%20destabilisieren%20%
 E2%80%93%20durch%20Desinformations-Kampagnen%2C%20Mediennetzwerke%20und%2
 0einer%20Flutung%20der%20sozialen%20Medien%20mit%20Fake-Accounts.%26nbsp%
 3B%3C%2Fp%3E%0A%0A%0A%0A%3Cp%3ERussland%20verst%C3%A4rkt%20dabei%20geziel
 t%20polarisierende%20Themen.%20Daf%C3%BCr%20nutzt%20es%20von%20langer%20H
 and%20aufgebaute%20Netzwerke%2C%20um%20russische%20Propaganda%20zu%20verb
 reiten.%26nbsp%3B%20Ein%20aktuelles%20Beispiel%20f%C3%BCr%20dieses%20Vorg
 ehen%20ist%20das%20j%C3%BCngst%20enttarnte%20Onlinemedium%20%E2%80%9EVoic
 e%20of%20Europe%E2%80%9C.%26nbsp%3B%20%C3%9Cber%20dieses%20sollen%20auch%
 20europ%C3%A4ische%20Politiker%2Ainnen%20bezahlt%20worden%20sein%2C%20wie
 %20der%20Spitzenkandidat%20zur%20Europawahl%20der%20AfD.%26nbsp%3B%3C%2Fp
 %3E%0A%0A%0A%0A%3Cp%3ERechtsextreme%20Gruppierungen%20wiederum%20sind%20s
 eit%20Jahren%20willf%C3%A4hrige%20Helfer%20Putins.%20Denn%20die%20Spaltun
 g%20unserer%20Gesellschaft%20durch%20die%20Polarisierung%20ist%20ihr%20Ge
 sch%C3%A4ftsmodell.%20Unvers%C3%B6hnliche%20Debatten%20%C3%BCber%20den%20
 Krieg%20Russlands%20gegen%20die%20Ukraine%2C%20die%20Konflikte%20im%20Nah
 en%20Osten%2C%20aber%20auch%20innenpolitische%20Themen%20in%20Deutschland
 %20werden%20dadurch%20befeuert.%26nbsp%3B%3C%2Fp%3E%0A%0A%0A%0A%3Cp%3EGez
 ielt%20wird%20versucht%2C%20den%20sozialen%20Zusammenhalt%20und%20die%20S
 tabilit%C3%A4t%20unseres%20Staates%20ins%20Wanken%20zu%20bringen.%20Dies%
 20ist%20brandgef%C3%A4hrlich%20f%C3%BCr%20unsere%20Demokratie.%20Um%20sie
 %20zu%20sch%C3%BCtzen%2C%20m%C3%BCssen%20wir%20uns%20Fragen%20stellen%2C%
 20wie%E2%80%A6%3C%2Fp%3E%0A%0A%0A%0A%3Cul%20class%3D%22wp-block-list%22%3
 E%0A%3Cli%3Ewir%20in%20Debatten%20scheinbare%20Widerspr%C3%BCche%20aushal
 ten%20und%20trotzdem%20L%C3%B6sungen%20finden%20k%C3%B6nnen%3C%2Fli%3E%0A
 %3C%2Ful%3E%0A%0A%0A%0A%3Cul%20class%3D%22wp-block-list%22%3E%0A%3Cli%3Ew
 ir%20aus%20einem%20%E2%80%9EEntweder%2F%20Oder%E2%80%9C%20hin%20zu%20Deba
 tten%20des%20%E2%80%9ESowohl%20als%20auch%E2%80%9C%20kommen%3C%2Fli%3E%0A
 %3C%2Ful%3E%0A%0A%0A%0A%3Cul%20class%3D%22wp-block-list%22%3E%0A%3Cli%3Ea
 ndere%20europ%C3%A4ische%20L%C3%A4nder%20damit%20umgehen%3C%2Fli%3E%0A%3C
 %2Ful%3E%0A%0A%0A%0A%3Cul%20class%3D%22wp-block-list%22%3E%0A%3Cli%3Ewir%
 20gemeinsame%20europ%C3%A4ische%20L%C3%B6sungen%20schaffen%20%3C%2Fli%3E%
 0A%3C%2Ful%3E%0A%0A%0A%0A%3Cp%3EDie%20Bev%C3%B6lkerung%20ist%20herzlich%2
 0eingeladen%21%20%3C%2Fp%3E%0A%0A%0A%0A%3Cp%3EBeginn%20der%20Veranstaltun
 g%20ist%20am%20Donnerstag%2C%20den%20%3Cstrong%3E2.%20Mai%202024%20um%201
 9%3A30%20%3C%2Fstrong%3Eim%20Kulturhaus%20Osterfeld%20in%20Pforzheim.%3C%
 2Fp%3E%0A":Stephanie Aeffner lädt ein zum Gespräch mit dem Europaabgeor
 dneten Sergey Lagodinsky\n\n"Demokratie im Feuer – Bedrohung durch Russ
 land"\n\nSeit Jahren wird immer deutlicher\, wie Russland versucht europ
 äische Länder zu destabilisieren – durch Desinformations-Kampagnen\, 
 Mediennetzwerke und einer Flutung der sozialen Medien mit Fake-Accounts.
  \n\nRussland verstärkt dabei gezielt polarisierende Themen. Dafür nut
 zt es von langer Hand aufgebaute Netzwerke\, um russische Propaganda zu v
 erbreiten.  Ein aktuelles Beispiel für dieses Vorgehen ist das jüngst 
 enttarnte Onlinemedium „Voice of Europe“.  Über dieses sollen auch 
 europäische Politiker*innen bezahlt worden sein\, wie der Spitzenkandida
 t zur Europawahl der AfD. \n\nRechtsextreme Gruppierungen wiederum sind 
 seit Jahren willfährige Helfer Putins. Denn die Spaltung unserer Gesells
 chaft durch die Polarisierung ist ihr Geschäftsmodell. Unversöhnliche D
 ebatten über den Krieg Russlands gegen die Ukraine\, die Konflikte im Na
 hen Osten\, aber auch innenpolitische Themen in Deutschland werden dadurc
 h befeuert. \n\nGezielt wird versucht\, den sozialen Zusammenhalt und di
 e Stabilität unseres Staates ins Wanken zu bringen. Dies ist brandgefäh
 rlich für unsere Demokratie. Um sie zu schützen\, müssen wir uns Frage
 n stellen\, wie…\n\nwir in Debatten scheinbare Widersprüche aushalten 
 und trotzdem Lösungen finden können\n\nwir aus einem „Entweder/ Oder
 “ hin zu Debatten des „Sowohl als auch“ kommen\n\nandere europäisc
 he Länder damit umgehen\n\nwir gemeinsame europäische Lösungen schaffe
 n\n\nDie Bevölkerung ist herzlich eingeladen!\n\nBeginn der Veranstaltun
 g ist am Donnerstag\, den 2. Mai 2024 um 19:30 im Kulturhaus Osterfeld in
  Pforzheim.
CLASS:PUBLIC
DTSTART;TZID=Europe/Berlin:20240502T193000
DTEND;TZID=Europe/Berlin:20240502T203000
DTSTAMP:20260421T042224
END:VEVENT
END:VCALENDAR