BEGIN:VCALENDAR
VERSION:2.0
PRODID:aeffnerstephanie.de
METHOD:PUBLISH
BEGIN:VTIMEZONE
TZID:Europe/Berlin
X-LIC-LOCATION:Europe/Berlin
BEGIN:DAYLIGHT
TZOFFSETFROM:+0100
TZOFFSETTO:+0200
TZNAME:CEST
DTSTART:19700329T020000
RRULE:FREQ=YEARLY;INTERVAL=1;BYDAY=-1SU;BYMONTH=3
END:DAYLIGHT
BEGIN:STANDARD
TZOFFSETFROM:+0200
TZOFFSETTO:+0100
TZNAME:CET
DTSTART:19701025T030000
RRULE:FREQ=YEARLY;INTERVAL=1;BYDAY=-1SU;BYMONTH=10
END:STANDARD
END:VTIMEZONE
BEGIN:VEVENT
UID:b1c185709d80b93aa6ea55f21a317b28@aeffnerstephanie.de
URL;VALUE=URI:https://aeffnerstephanie.de/termine/demokratie-verteidigen/
LOCATION:Leopoldplatz, 75172 Pforzheim
SUMMARY:Demokratie verteidigen
DESCRIPTION;ALTREP="data:text/html,%0A%3Ch2%20class%3D%22wp-block-heading
 %22%3EKundgebung%20gegen%20Rechts%20am%20Samstag%20in%20Pforzheim.%20%3C%
 2Fh2%3E%0A%0A%0A%0A%3Ch2%20class%3D%22wp-block-heading%22%3ENie%20wieder%
 20ist%20jetzt%21%20%3C%2Fh2%3E%0A%0A%0A%0A%3Ch2%20class%3D%22wp-block-hea
 ding%22%3E%3Cstrong%3E20.%20Januar%202024%20um%2015%20Uhr%20am%20Leopoldp
 latz%20in%20Pforzheim%3C%2Fstrong%3E%3C%2Fh2%3E%0A%0A%0A%0A%3Cp%3EDie%26n
 bsp%3B%3Cstrong%3EInitiative%20gegen%20Rechts%20Pforzheim%26nbsp%3B%3C%2F
 strong%3Eruft%20f%C3%BCr%20Samstag%2C%20gemeinsam%20mit%20dem%3Cstrong%3E
 %26nbsp%3BJugendgemeinderat%3C%2Fstrong%3E%2C%20dem%26nbsp%3B%3Cstrong%3E
 B%C3%BCndnis%20Pforzheim%20nazifrei%3C%2Fstrong%3E%26nbsp%3Bund%26nbsp%3B
 %3Cstrong%3Ezusammenhalten%20Pforzheim%3C%2Fstrong%3E%26nbsp%3Bzu%20einer
 %26nbsp%3B%3Cstrong%3EKundgebung%20gegen%20Rechts%3C%2Fstrong%3E%3C%2Fp%3
 E%0A%0A%0A%0A%3Cp%3EDie%20AfD%20ist%20in%20Umfragen%20seit%20Wochen%20die
 %20zweitst%C3%A4rkste%20Partei%20in%20Deutschland.%20Ihr%20geheimes%20Tre
 ffen%20mit%20rechtsextremen%20Aktivist%2Ainnen%20und%20anderen%20Politike
 r%2Ainnen%20und%20Unternehmer%2Ainnen%20zu%20Massendeportationspl%C3%A4ne
 n%2C%20%C3%BCber%20das%20in%20der%20letzten%20Woche%20berichtet%20wurde%2
 C%20hat%20zum%20wiederholten%20Mal%20gezeigt%2C%20wie%20menschenfeindlich
 %2C%20rassistisch%20und%20demokratiegef%C3%A4hrdend%20ihre%20Ideologie%20
 ist.%3C%2Fp%3E%0A%0A%0A%0A%3Cp%3EIm%20Superwahljahr%202024%20mit%20Landta
 gswahlen%2C%20Kommunalwahlen%20und%20Wahlen%20zum%20EU-Parlament%20wird%2
 0die%20Gefahr%2C%20dass%20die%20AfD%20an%20Einfluss%20und%20Macht%20in%20
 Deutschland%20und%20Europa%20gewinnt%2C%20in%20einer%20angespannten%20pol
 itischen%20Lage%20immer%20realer.%20%C3%84ngste%20werden%20gesch%C3%BCrt%
 2C%20soziale%20Herausforderungen%20werden%20instrumentalisiert.%20Die%20d
 emokratische%20Mitte%20unseres%20Landes%20ist%20nun%20gefordert%2C%20um%2
 0einen%20Wahlsieg%20und%20weitere%20Einflussnahme%20von%20Faschisten%20un
 d%20ihrer%20Unterst%C3%BCtzer%20zu%20verhindern.%3C%2Fp%3E%0A%0A%0A%0A%3C
 p%3EEs%20gibt%20auch%20gute%20Nachrichten%3A%20Rund%2080%25%20der%20Deuts
 chen%20w%C3%BCrden%20keine%20AfD%20w%C3%A4hlen.%20Der%20gro%C3%9Fe%20Teil
 %20der%20Menschen%20in%20Deutschland%20ist%20solidarisch%20und%20steht%20
 fest%20zur%20Demokratie%20und%20den%20Werten%20in%20unserer%20Verfassung.
 %20Die%20%C3%BCber%20Jahrzehnte%20hart%20erarbeitete%20Demokratie%20gilt%
 20es%20nun%20zu%20verteidigen.%3C%2Fp%3E%0A%0A%0A%0A%3Cp%3ELasst%20uns%20
 gemeinsam%20ein%20Zeichen%20setzen%20und%20zeigen%2C%20dass%20wir%20mehr%
 20sind%21%20Lasst%20uns%20gemeinsam%20solidarisch%20sein%20und%20zeigen%2
 C%20dass%20alle%20Menschen%20unabh%C3%A4ngig%20von%20Herkunft%2C%20Religi
 on%20oder%20sexueller%20Identit%C3%A4t%20zu%20Deutschland%20und%20zu%20Pf
 orzheim%20geh%C3%B6ren%21%20Lasst%20uns%20zeigen%2C%20dass%20wir%20f%C3%B
 Creinander%20einstehen%20und%20die%20Demokratie%20verteidigen.%3C%2Fp%3E%
 0A%0A%0A%0A%3Cp%3E%3Cstrong%3EAUFRUF%3A%3C%2Fstrong%3E%3C%2Fp%3E%0A%0A%0A
 %0A%3Cp%3E%3Cstrong%3E%3Ca%20href%3D%22https%3A%2F%2Fwww.facebook.com%2Fe
 vents%2F1305168560130155%2F%22%3EInitiative%20gegen%20Rechts%20%28faceboo
 k%29%3C%2Fa%3E%3C%2Fstrong%3E%3C%2Fp%3E%0A%0A%0A%0A%3Cp%3E%3Cstrong%3E%3C
 a%20href%3D%22https%3A%2F%2Fwww.buendnis-pforzheim-nazifrei.de%2F2024%2Fd
 emokratie-verteidigen-demonstration-gegen-rechts-am-samstag-in-pforzheim%
 2F%22%3EB%C3%BCndnis%20Pforzheim%20Nazifrei%3C%2Fa%3E%3C%2Fstrong%3E%3C%2
 Fp%3E%0A":Kundgebung gegen Rechts am Samstag in Pforzheim.\n\nNie wieder 
 ist jetzt!\n\n20. Januar 2024 um 15 Uhr am Leopoldplatz in Pforzheim\n\nD
 ie Initiative gegen Rechts Pforzheim ruft für Samstag\, gemeinsam mit 
 dem Jugendgemeinderat\, dem Bündnis Pforzheim nazifrei und zusammenh
 alten Pforzheim zu einer Kundgebung gegen Rechts\n\nDie AfD ist in Umfr
 agen seit Wochen die zweitstärkste Partei in Deutschland. Ihr geheimes T
 reffen mit rechtsextremen Aktivist*innen und anderen Politiker*innen und 
 Unternehmer*innen zu Massendeportationsplänen\, über das in der letzten
  Woche berichtet wurde\, hat zum wiederholten Mal gezeigt\, wie menschenf
 eindlich\, rassistisch und demokratiegefährdend ihre Ideologie ist.\n\nI
 m Superwahljahr 2024 mit Landtagswahlen\, Kommunalwahlen und Wahlen zum E
 U-Parlament wird die Gefahr\, dass die AfD an Einfluss und Macht in Deuts
 chland und Europa gewinnt\, in einer angespannten politischen Lage immer 
 realer. Ängste werden geschürt\, soziale Herausforderungen werden instr
 umentalisiert. Die demokratische Mitte unseres Landes ist nun gefordert\,
  um einen Wahlsieg und weitere Einflussnahme von Faschisten und ihrer Unt
 erstützer zu verhindern.\n\nEs gibt auch gute Nachrichten: Rund 80% der 
 Deutschen würden keine AfD wählen. Der große Teil der Menschen in Deut
 schland ist solidarisch und steht fest zur Demokratie und den Werten in u
 nserer Verfassung. Die über Jahrzehnte hart erarbeitete Demokratie gilt 
 es nun zu verteidigen.\n\nLasst uns gemeinsam ein Zeichen setzen und zeig
 en\, dass wir mehr sind! Lasst uns gemeinsam solidarisch sein und zeigen\
 , dass alle Menschen unabhängig von Herkunft\, Religion oder sexueller I
 dentität zu Deutschland und zu Pforzheim gehören! Lasst uns zeigen\, da
 ss wir füreinander einstehen und die Demokratie verteidigen.\n\nAUFRUF:\
 n\nInitiative gegen Rechts (facebook)\n\nBündnis Pforzheim Nazifrei
CLASS:PUBLIC
DTSTART;TZID=Europe/Berlin:20240120T150000
DTEND;TZID=Europe/Berlin:20240120T160000
DTSTAMP:20260421T084041
END:VEVENT
END:VCALENDAR