BEGIN:VCALENDAR
VERSION:2.0
PRODID:aeffnerstephanie.de
METHOD:PUBLISH
BEGIN:VTIMEZONE
TZID:Europe/Berlin
X-LIC-LOCATION:Europe/Berlin
BEGIN:DAYLIGHT
TZOFFSETFROM:+0100
TZOFFSETTO:+0200
TZNAME:CEST
DTSTART:19700329T020000
RRULE:FREQ=YEARLY;INTERVAL=1;BYDAY=-1SU;BYMONTH=3
END:DAYLIGHT
BEGIN:STANDARD
TZOFFSETFROM:+0200
TZOFFSETTO:+0100
TZNAME:CET
DTSTART:19701025T030000
RRULE:FREQ=YEARLY;INTERVAL=1;BYDAY=-1SU;BYMONTH=10
END:STANDARD
END:VTIMEZONE
BEGIN:VEVENT
UID:1155b95d2047b669f4994c188a023635@aeffnerstephanie.de
URL;VALUE=URI:https://aeffnerstephanie.de/termine/einladung-nach-hockenhe
 im/
LOCATION:Stadthallen-Restaurant Rondeau, Rathausstraße 3, 68766 Hockenhe
 im
SUMMARY:Einladung nach Hockenheim
DESCRIPTION;ALTREP="data:text/html,%0A%3Ch2%20class%3D%22wp-block-heading
 %22%3ESozialstaat%20unter%20Druck%20%E2%80%93%20Fakten%20gegen%20Fake%20N
 ews%3C%2Fh2%3E%0A%0A%0A%0A%3Cp%3EEinladung%20des%20Kreisverbandes%20Kurpf
 alz-Hardt%20zur%20Diskussion%20mit%20%3C%2Fp%3E%0A%0A%0A%0A%3Cp%3E%3Cstro
 ng%3EStephanie%20Aeffner%20MdB%3C%2Fstrong%3E%2C%20in%20der%20Gr%C3%BCnen
 %20Bundestagsfraktion%20f%C3%BCr%20Sozialpolitik%20zust%C3%A4ndig%20%3C%2
 Fp%3E%0A%0A%0A%0A%3Cp%3Eund%3C%2Fp%3E%0A%0A%0A%0A%3Cp%3E%3Cstrong%3EDr.%2
 0Thomas%20Rink%2C%20%3C%2Fstrong%3E%20Bundestagskandidat%20f%C3%BCr%20B%C
 3%BCndnis%2090%2FDie%20Gr%C3%BCnen%20im%20Wahlkreis%20Bruchsal-Schwetzing
 en.%20Einer%20seiner%20politischen%20Schwerpunkte%20ist%20die%20Bildungsp
 olitik%20als%20Faktor%20f%C3%BCr%20soziale%20Gerechtigkeit%20und%20gesell
 schaftliche%20Teilhabe.%3C%2Fp%3E%0A%0A%0A%0A%3Cp%3EDie%20populistischen%
 20Debatten%20um%20den%20Sozialstaat%20gef%C3%A4hrden%20wichtige%20Errunge
 nschaften%20unserer%20Gesellschaft.%20Sie%20vertieften%20die%20Gr%C3%A4be
 n%20und%20sind%20Gift%20f%C3%BCr%20den%20sozialen%20Zusammenhalt.%20Egal%
 20ob%20B%C3%BCrgergeld%2C%20Kindergrundsicherung%2C%20Leistungen%20f%C3%B
 Cr%20gefl%C3%BCchtete%20Menschen%20oder%20Rentenpolitik%3A%20In%20den%20D
 iskussionen%20werden%20unterschiedliche%20Gruppen%20gegeneinander%20ausge
 spielt%2C%20Vorurteile%20gesch%C3%BCrt%20und%20oft%20genug%20auch%20mit%2
 0Fake%20News%20statt%20mit%20sachlichen%20Argumenten%20gestritten.%3C%2Fp
 %3E%0A%0A%0A%0A%3Cp%3EWir%20wollen%20%C3%BCber%20diese%20aktuellen%20Them
 en%20sprechen%20und%20aufzeigen%2C%20welche%20Erfolge%20wir%20in%20der%20
 Ampelregierung%20erreichen%20konnten%20und%20welche%20Ziele%20es%20noch%2
 0im%20Rahmen%20einer%20Gr%C3%BCnen%20Sozialpolitik%20umzusetzen%20gilt.%3
 C%2Fp%3E%0A%0A%0A%0A%3Cp%3EDienstag%2C%2010.%20Dezember%202024%20um%2019%
 20Uhr%20in%20Hockenheim%20im%20Stadthallen-Restaurant%20Rondeau.%20%3C%2F
 p%3E%0A%0A%0A%0A%3Cp%3E%3Cstrong%3E%3Ca%20href%3D%22https%3A%2F%2Fgruene-
 kurpfalz-hardt.de%2Ftermine%2Fsozialstaat-unter-druck-fakten-gegen-fake-n
 ews%2F%22%3EEinladung%20Gr%C3%BCne%20Kurpfalz-Hardt%3C%2Fa%3E%3C%2Fstrong
 %3E%3C%2Fp%3E%0A%0A%0A%0A%3Cp%3E%3C%2Fp%3E%0A":Sozialstaat unter Druck 
 – Fakten gegen Fake News\n\nEinladung des Kreisverbandes Kurpfalz-Hardt
  zur Diskussion mit\n\nStephanie Aeffner MdB\, in der Grünen Bundestagsf
 raktion für Sozialpolitik zuständig\n\nund\n\nDr. Thomas Rink\,  Bundes
 tagskandidat für Bündnis 90/Die Grünen im Wahlkreis Bruchsal-Schwetzin
 gen. Einer seiner politischen Schwerpunkte ist die Bildungspolitik als Fa
 ktor für soziale Gerechtigkeit und gesellschaftliche Teilhabe.\n\nDie po
 pulistischen Debatten um den Sozialstaat gefährden wichtige Errungenscha
 ften unserer Gesellschaft. Sie vertieften die Gräben und sind Gift für 
 den sozialen Zusammenhalt. Egal ob Bürgergeld\, Kindergrundsicherung\, L
 eistungen für geflüchtete Menschen oder Rentenpolitik: In den Diskussio
 nen werden unterschiedliche Gruppen gegeneinander ausgespielt\, Vorurteil
 e geschürt und oft genug auch mit Fake News statt mit sachlichen Argumen
 ten gestritten.\n\nWir wollen über diese aktuellen Themen sprechen und a
 ufzeigen\, welche Erfolge wir in der Ampelregierung erreichen konnten und
  welche Ziele es noch im Rahmen einer Grünen Sozialpolitik umzusetzen gi
 lt.\n\nDienstag\, 10. Dezember 2024 um 19 Uhr in Hockenheim im Stadthalle
 n-Restaurant Rondeau.\n\nEinladung Grüne Kurpfalz-Hardt
CLASS:PUBLIC
DTSTART;TZID=Europe/Berlin:20241210T190000
DTEND;TZID=Europe/Berlin:20241210T200000
DTSTAMP:20260421T042124
END:VEVENT
END:VCALENDAR