BEGIN:VCALENDAR
VERSION:2.0
PRODID:aeffnerstephanie.de
METHOD:PUBLISH
BEGIN:VTIMEZONE
TZID:Europe/Berlin
X-LIC-LOCATION:Europe/Berlin
BEGIN:DAYLIGHT
TZOFFSETFROM:+0100
TZOFFSETTO:+0200
TZNAME:CEST
DTSTART:19700329T020000
RRULE:FREQ=YEARLY;INTERVAL=1;BYDAY=-1SU;BYMONTH=3
END:DAYLIGHT
BEGIN:STANDARD
TZOFFSETFROM:+0200
TZOFFSETTO:+0100
TZNAME:CET
DTSTART:19701025T030000
RRULE:FREQ=YEARLY;INTERVAL=1;BYDAY=-1SU;BYMONTH=10
END:STANDARD
END:VTIMEZONE
BEGIN:VEVENT
UID:60a5bbb033d140c3c9dc9d26fbfbd30d@aeffnerstephanie.de
URL;VALUE=URI:https://aeffnerstephanie.de/termine/kindergrundsicherung-sc
 hafft-bildungschancen/
LOCATION:"Frühstückscafe", Untere Vorstadt 20, 72458 Albstadt
SUMMARY:Kindergrundsicherung schafft Bildungschancen
DESCRIPTION;ALTREP="data:text/html,%0A%3Cp%3EVeranstaltung%20der%20Gr%C3%
 BCnen%20Albstadt%20mit%20Stephanie%20Aeffner%20MdB%20%3C%2Fp%3E%0A%0A%0A%
 0A%3Cp%3EDienstag%2C%20den%207.%20Mai%202024%20um%2019%3A30%20Uhr%20%3C%2
 Fp%3E%0A%0A%0A%0A%3Cp%3Eim%20%22Fr%C3%BChst%C3%BCckscafe%22%2C%20Untere%2
 0Vorstadt%2020%2C%2072458%20Albstadt%3C%2Fp%3E%0A%0A%0A%0A%3Cp%3E%3C%2Fp%
 3E%0A":Veranstaltung der Grünen Albstadt mit Stephanie Aeffner MdB\n\nDi
 enstag\, den 7. Mai 2024 um 19:30 Uhr\n\nim "Frühstückscafe"\, Untere V
 orstadt 20\, 72458 Albstadt
CLASS:PUBLIC
DTSTART;TZID=Europe/Berlin:20240507T193000
DTEND;TZID=Europe/Berlin:20240507T203000
DTSTAMP:20260421T040936
END:VEVENT
END:VCALENDAR