BEGIN:VCALENDAR
VERSION:2.0
PRODID:aeffnerstephanie.de
METHOD:PUBLISH
BEGIN:VTIMEZONE
TZID:Europe/Berlin
X-LIC-LOCATION:Europe/Berlin
BEGIN:DAYLIGHT
TZOFFSETFROM:+0100
TZOFFSETTO:+0200
TZNAME:CEST
DTSTART:19700329T020000
RRULE:FREQ=YEARLY;INTERVAL=1;BYDAY=-1SU;BYMONTH=3
END:DAYLIGHT
BEGIN:STANDARD
TZOFFSETFROM:+0200
TZOFFSETTO:+0100
TZNAME:CET
DTSTART:19701025T030000
RRULE:FREQ=YEARLY;INTERVAL=1;BYDAY=-1SU;BYMONTH=10
END:STANDARD
END:VTIMEZONE
BEGIN:VEVENT
UID:9dd315dbd75c400787d6e72b4786ffc5@aeffnerstephanie.de
URL;VALUE=URI:https://aeffnerstephanie.de/termine/landesparteitag/
LOCATION:Reutlingen
SUMMARY:Landesparteitag
DESCRIPTION;ALTREP="data:text/html,%0A%3Cp%3ELandesdelegiertenkonferenz%2
 0von%20B%C3%9CNDNIS%2090%2FDIE%20GR%C3%9CNEN%20Baden-W%C3%BCrttemberg%20%
 3C%2Fp%3E%0A%0A%0A%0A%3Cp%3E%3C%2Fp%3E%0A":Landesdelegiertenkonferenz von
  BÜNDNIS 90/DIE GRÜNEN Baden-Württemberg
CLASS:PUBLIC
DTSTART;TZID=Europe/Berlin:20241208
DTEND;TZID=Europe/Berlin:20241209
DTSTAMP:20260421T035830
END:VEVENT
END:VCALENDAR