BEGIN:VCALENDAR
VERSION:2.0
PRODID:aeffnerstephanie.de
METHOD:PUBLISH
BEGIN:VTIMEZONE
TZID:Europe/Berlin
X-LIC-LOCATION:Europe/Berlin
BEGIN:DAYLIGHT
TZOFFSETFROM:+0100
TZOFFSETTO:+0200
TZNAME:CEST
DTSTART:19700329T020000
RRULE:FREQ=YEARLY;INTERVAL=1;BYDAY=-1SU;BYMONTH=3
END:DAYLIGHT
BEGIN:STANDARD
TZOFFSETFROM:+0200
TZOFFSETTO:+0100
TZNAME:CET
DTSTART:19701025T030000
RRULE:FREQ=YEARLY;INTERVAL=1;BYDAY=-1SU;BYMONTH=10
END:STANDARD
END:VTIMEZONE
BEGIN:VEVENT
UID:c0182a475458090650f11fd4c941f753@aeffnerstephanie.de
URL;VALUE=URI:https://aeffnerstephanie.de/termine/landeswahlversammlung/
LOCATION:Reutlingen
SUMMARY:Landeswahlversammlung
DESCRIPTION;ALTREP="data:text/html,%0A%3Cp%3EDie%20Landeswahlversammlung%
 20von%20B%C3%9CNDNIS%2090%2FDIE%20GR%C3%9CNEN%20Baden-W%C3%BCrttemberg%20
 trifft%20sich%20zur%20Aufstellung%20der%20Landesliste%20f%C3%BCr%20die%20
 Bundestagswahl%202025%20%3C%2Fp%3E%0A%0A%0A%0A%3Cp%3E%3C%2Fp%3E%0A":Die L
 andeswahlversammlung von BÜNDNIS 90/DIE GRÜNEN Baden-Württemberg triff
 t sich zur Aufstellung der Landesliste für die Bundestagswahl 2025
CLASS:PUBLIC
DTSTART;TZID=Europe/Berlin:20241207
DTEND;TZID=Europe/Berlin:20241208
DTSTAMP:20260421T040650
END:VEVENT
END:VCALENDAR