BEGIN:VCALENDAR
VERSION:2.0
PRODID:aeffnerstephanie.de
METHOD:PUBLISH
BEGIN:VTIMEZONE
TZID:Europe/Berlin
X-LIC-LOCATION:Europe/Berlin
BEGIN:DAYLIGHT
TZOFFSETFROM:+0100
TZOFFSETTO:+0200
TZNAME:CEST
DTSTART:19700329T020000
RRULE:FREQ=YEARLY;INTERVAL=1;BYDAY=-1SU;BYMONTH=3
END:DAYLIGHT
BEGIN:STANDARD
TZOFFSETFROM:+0200
TZOFFSETTO:+0100
TZNAME:CET
DTSTART:19701025T030000
RRULE:FREQ=YEARLY;INTERVAL=1;BYDAY=-1SU;BYMONTH=10
END:STANDARD
END:VTIMEZONE
BEGIN:VEVENT
UID:a37b84050d2e6853ab434f427b90117d@aeffnerstephanie.de
URL;VALUE=URI:https://aeffnerstephanie.de/termine/online-sozialstaat-unte
 r-druck-fakten-gegen-fake-news/
LOCATION:Online
SUMMARY:Online: Sozialstaat unter Druck – Fakten gegen Fake News
DESCRIPTION;ALTREP="data:text/html,%0A%3Cp%3EAngesichts%20der%20immer%20w
 ieder%20hochkochenden%20Debatten%2C%20welchen%20Stellenwert%20Sozialpolit
 ik%20in%20unserem%20Land%20haben%20muss%20und%20ob%20wir%20uns%20den%20So
 zialstaat%20in%20der%20heutigen%20Form%20%C3%BCberhaupt%20noch%20leisten%
 20k%C3%B6nnen%2C%20m%C3%B6chte%20ich%20Euch%20gerne%20zu%20einem%20Online
 -Termin%20einladen.%3C%2Fp%3E%0A%0A%0A%0A%3Ch2%20class%3D%22wp-block-head
 ing%22%3EAm%20Freitag%2C%20den%2029.%20November%20um%2019%3A30%20Uhr%20pe
 r%20Zoom%3C%2Fh2%3E%0A%0A%0A%0A%3Cp%3E%3Cstrong%3EAnmeldung%20f%C3%BCr%20
 Zugangsdaten%3C%2Fstrong%3E%3C%2Fp%3E%0A%0A%0A%0A%3Cp%3EDer%20Sozialstaat
 %20steht%20unter%20Druck.%20Seine%20Gerechtigkeit%20wird%20in%20Frage%20g
 estellt.%20B%C3%BCrgergeld%2C%20Leistungen%20f%C3%BCr%20Gefl%C3%BCchtete%
 20oder%20die%20Kindergrundsicherung%20werden%20frontal%20angegriffen.%20A
 us%20der%20Sicherung%20der%20gesetzlichen%20Rente%20wird%20ein%20Generati
 onenkonflikt%20gemacht.%3C%2Fp%3E%0A%0A%0A%0A%3Cp%3EBei%20all%20den%20pop
 ulistischen%20Debatten%20mit%20Fake%20News%20und%20Spaltung%20drohen%20un
 s%20wichtige%20Errungenschaften%20verloren%20zu%20gehen%2C%20die%20Sicher
 heit%20geben%20und%20den%20sozialen%20Frieden%20garantieren.%3C%2Fp%3E%0A
 %0A%0A%0A%3Cul%20class%3D%22wp-block-list%22%3E%0A%3Cli%3EWas%20in%20den%
 20Debatten%20stimmt%2C%20was%20nicht%3F%3C%2Fli%3E%0A%0A%0A%0A%3Cli%3EWas
 %20haben%20wir%20in%20der%20Ampel%20an%20Verbesserungen%20erreicht%3F%3C%
 2Fli%3E%0A%0A%0A%0A%3Cli%3EWo%20gibt%20es%20Gerechtigkeitsl%C3%BCcken%3F%
 3C%2Fli%3E%0A%0A%0A%0A%3Cli%3EUnd%20welche%20Konzepte%20haben%20wir%20Gr%
 C3%BCnen%2C%20um%20das%20Versprechen%20von%20sozialer%20Sicherheit%20und%
 20Gerechtigkeit%20f%C3%BCr%20alle%20zu%20erneuern%3F%3C%2Fli%3E%0A%3C%2Fu
 l%3E%0A%0A%0A%0A%3Cp%3EIch%20stelle%20Euch%20zu%20Beginn%20einige%20Fakte
 n%20dar%20und%20w%C3%BCrde%20dann%20gerne%20auf%20Eure%20Fragen%20eingehe
 n.%20Ich%20w%C3%BCrde%20mich%20freuen%2C%20wenn%20Ihr%20Eure%20Erfahrunge
 n%20in%20das%20Gespr%C3%A4ch%20einbringt.%3C%2Fp%3E%0A%0A%0A%0A%3Cp%3E%3C
 %2Fp%3E%0A":Angesichts der immer wieder hochkochenden Debatten\, welchen 
 Stellenwert Sozialpolitik in unserem Land haben muss und ob wir uns den S
 ozialstaat in der heutigen Form überhaupt noch leisten können\, möchte
  ich Euch gerne zu einem Online-Termin einladen.\n\nAm Freitag\, den 29. 
 November um 19:30 Uhr per Zoom\n\nAnmeldung für Zugangsdaten\n\nDer Sozi
 alstaat steht unter Druck. Seine Gerechtigkeit wird in Frage gestellt. B
 ürgergeld\, Leistungen für Geflüchtete oder die Kindergrundsicherung w
 erden frontal angegriffen. Aus der Sicherung der gesetzlichen Rente wird 
 ein Generationenkonflikt gemacht.\n\nBei all den populistischen Debatten 
 mit Fake News und Spaltung drohen uns wichtige Errungenschaften verloren 
 zu gehen\, die Sicherheit geben und den sozialen Frieden garantieren.\n\n
 Was in den Debatten stimmt\, was nicht?\n\nWas haben wir in der Ampel an 
 Verbesserungen erreicht?\n\nWo gibt es Gerechtigkeitslücken?\n\nUnd welc
 he Konzepte haben wir Grünen\, um das Versprechen von sozialer Sicherhei
 t und Gerechtigkeit für alle zu erneuern?\n\nIch stelle Euch zu Beginn e
 inige Fakten dar und würde dann gerne auf Eure Fragen eingehen. Ich wür
 de mich freuen\, wenn Ihr Eure Erfahrungen in das Gespräch einbringt.
CLASS:PUBLIC
DTSTART;TZID=Europe/Berlin:20241129T193000
DTEND;TZID=Europe/Berlin:20241129T203000
DTSTAMP:20260421T041553
END:VEVENT
END:VCALENDAR