BEGIN:VCALENDAR
VERSION:2.0
PRODID:aeffnerstephanie.de
METHOD:PUBLISH
BEGIN:VTIMEZONE
TZID:Europe/Berlin
X-LIC-LOCATION:Europe/Berlin
BEGIN:DAYLIGHT
TZOFFSETFROM:+0100
TZOFFSETTO:+0200
TZNAME:CEST
DTSTART:19700329T020000
RRULE:FREQ=YEARLY;INTERVAL=1;BYDAY=-1SU;BYMONTH=3
END:DAYLIGHT
BEGIN:STANDARD
TZOFFSETFROM:+0200
TZOFFSETTO:+0100
TZNAME:CET
DTSTART:19701025T030000
RRULE:FREQ=YEARLY;INTERVAL=1;BYDAY=-1SU;BYMONTH=10
END:STANDARD
END:VTIMEZONE
BEGIN:VEVENT
UID:5c869f6e5829b5f5f37b92c425de7e17@aeffnerstephanie.de
URL;VALUE=URI:https://aeffnerstephanie.de/termine/online-veranstaltung-zu
 r-kindergrundsicherung/
LOCATION:Online mit Anmeldung
SUMMARY:Online-Veranstaltung zur Kindergrundsicherung
DESCRIPTION;ALTREP="data:text/html,%0A%3Cp%3EDer%20gr%C3%BCne%20Kreisverb
 and%20Karlsruhe-Land%20l%C3%A4dt%20alle%20Interessierten%20am%20%3Cstrong
 %3E7.%20Dezember%202024%3C%2Fstrong%3E%20zu%20einem%20Online-Gespr%C3%A4c
 h%20mit%20Stephanie%20Aeffner%20MdB%2C%20Sozialpolitikerin%20der%20gr%C3%
 BCnen%20Bundestagfraktion%2C%20ein.%20%3C%2Fp%3E%0A%0A%0A%0A%3Cp%3E%3Cstr
 ong%3EAnmeldung%20%3C%2Fstrong%3Ebis%20einschlie%C3%9Flich%2006.%20Dezemb
 er%202023%20unter%3A%20%3Ca%20href%3D%22mailto%3Akontakt%40gruene-karlsru
 he-land.de%22%3Ekontakt%40gruene-karlsruhe-land.de%3C%2Fa%3E%20%3Cbr%3EDe
 r%20Einwahllink%20wird%20anschlie%C3%9Fend%20per%20E-Mail%20zugesendet.%3
 C%2Fp%3E%0A%0A%0A%0A%3Cp%3E%3Ca%20href%3D%22https%3A%2F%2Fgruene-karlsruh
 e-land.de%2Fblog%2Ftermine%2Fentschlossen-gegen-kinderarmut-auf-dem-weg-z
 ur-kindergrundsicherung%2F%22%20data-type%3D%22link%22%20data-id%3D%22htt
 ps%3A%2F%2Fgruene-karlsruhe-land.de%2Fblog%2Ftermine%2Fentschlossen-gegen
 -kinderarmut-auf-dem-weg-zur-kindergrundsicherung%2F%22%3E%3Cstrong%3EEin
 ladung%20zur%20Veranstaltung%20%3C%2Fstrong%3E%3C%2Fa%3E%3C%2Fp%3E%0A":De
 r grüne Kreisverband Karlsruhe-Land lädt alle Interessierten am 7. Deze
 mber 2024 zu einem Online-Gespräch mit Stephanie Aeffner MdB\, Sozialpol
 itikerin der grünen Bundestagfraktion\, ein.\n\nAnmeldung bis einschlie
 ßlich 06. Dezember 2023 unter: kontakt@gruene-karlsruhe-land.de Der Einw
 ahllink wird anschließend per E-Mail zugesendet.\n\nEinladung zur Verans
 taltung
CLASS:PUBLIC
DTSTART;TZID=Europe/Berlin:20231207T193000
DTEND;TZID=Europe/Berlin:20231207T203000
DTSTAMP:20260421T042232
END:VEVENT
END:VCALENDAR