BEGIN:VCALENDAR
VERSION:2.0
PRODID:aeffnerstephanie.de
METHOD:PUBLISH
BEGIN:VTIMEZONE
TZID:Europe/Berlin
X-LIC-LOCATION:Europe/Berlin
BEGIN:DAYLIGHT
TZOFFSETFROM:+0100
TZOFFSETTO:+0200
TZNAME:CEST
DTSTART:19700329T020000
RRULE:FREQ=YEARLY;INTERVAL=1;BYDAY=-1SU;BYMONTH=3
END:DAYLIGHT
BEGIN:STANDARD
TZOFFSETFROM:+0200
TZOFFSETTO:+0100
TZNAME:CET
DTSTART:19701025T030000
RRULE:FREQ=YEARLY;INTERVAL=1;BYDAY=-1SU;BYMONTH=10
END:STANDARD
END:VTIMEZONE
BEGIN:VEVENT
UID:04e9349f630f98e1d72987998716469b@aeffnerstephanie.de
URL;VALUE=URI:https://aeffnerstephanie.de/termine/rundgang-in-schwetzinge
 n-mit-anschliessendem-gespraech/
LOCATION:Bahnhof und Welde Brauhaus, Schwetzingen
SUMMARY:Rundgang in Schwetzingen mit anschließendem Gespräch
DESCRIPTION;ALTREP="data:text/html,%0A%3Cp%3E%3Cstrong%3EDie%20Schwetzing
 er%20Gr%C3%BCnen%20%3C%2Fstrong%3Eladen%20ein%20zu%20einem%20%3Cstrong%3E
 Stadtrundgang%20zum%20Thema%20Barrierefreiheit%20und%20Inklusion%3C%2Fstr
 ong%3E%20mit%20der%20Bundestagsabgeordneten%20Stephanie%20Aeffner.%3C%2Fp
 %3E%0A%0A%0A%0A%3Cp%3EAeffner%20ist%20in%20der%20gr%C3%BCnen%20Bundestags
 fraktion%20zust%C3%A4ndig%20f%C3%BCr%20Sozialpolitik%20und%20Barrierefrei
 heit.%3C%2Fp%3E%0A%0A%0A%0A%3Cp%3EMit%20der%20Umsetzung%20von%20Barrieref
 reiheit%20in%20den%20Kommunen%20war%20sie%20bereits%20in%20ihrer%20fr%C3%
 BCheren%20T%C3%A4tigkeit%20als%20Landesbehindertenbeauftragte%20in%20Bade
 n-W%C3%BCrttemberg%20intensiv%20befasst.%20Dabei%20geht%20es%20um%20gleic
 hberechtigte%20Teilhabe%20aller%20und%20menschenrechtliche%20Verpflichtun
 gen.%20Aber%20ebenso%20um%20Antworten%20auf%20den%20demografischen%20Wand
 el%2C%20was%20auch%20ein%20Standortfaktor%20f%C3%BCr%20die%20heimische%20
 Wirtschaft%20ist.%3C%2Fp%3E%0A%0A%0A%0A%3Cp%3EBei%20der%20Begehung%20in%2
 0Schwetzingen%20werden%20die%20vielf%C3%A4ltigen%20Aspekte%20direkt%20vor
 %20Ort%20beleuchtet.%20Im%20Anschluss%20steht%20Stephanie%20Aeffner%20auc
 h%20f%C3%BCr%20weitere%20sozialpolitische%20Themen%20und%20Fragen%20zur%2
 0Bundespolitik%20zur%20Verf%C3%BCgung.%3C%2Fp%3E%0A%0A%0A%0A%3Cp%3EDer%20
 etwa%20einst%C3%BCndige%20Stadtrundgang%20startet%20%3Cstrong%3Eam%20Dien
 stag%2C%20den%2021.%20Mai%20um%2018.30%20Uhr%20am%20Bahnhof%20Schwetzinge
 n%20%28vor%20dem%20Bahnhofsgeb%C3%A4ude%29.%3C%2Fstrong%3E%20Anschlie%C3%
 9Fend%20ist%20f%C3%BCr%20die%20Gruppe%20ein%20Tisch%20in%20einem%20Lokal%
 20reserviert.%3C%2Fp%3E%0A%0A%0A%0A%3Cp%3E%3Cstrong%3EAb%2020%20Uhr%3C%2F
 strong%3E%20sind%20unter%20dem%20Motto%20%3Cstrong%3E%E2%80%9ESchwetzinge
 n%20trifft%20Berlin%E2%80%9C%3C%2Fstrong%3E%20alle%20interessierten%20B%C
 3%BCrgerinnen%20und%20B%C3%BCrger%20eingeladen%20im%20%3Cstrong%3EWelde-B
 rauhaus%2C%20Mannheimer%20Stra%C3%9Fe%202%3C%2Fstrong%3E%2C%20mit%20der%2
 0Abgeordneten%20und%20den%20Schwetzinger%20Gr%C3%BCnen%20bei%20einem%20k%
 C3%BChlen%20Getr%C3%A4nk%20ins%20Gespr%C3%A4ch%20zu%20kommen.%20Der%20Zug
 ang%20zum%20Lokal%20ist%20barrierefrei.%3C%2Fp%3E%0A":Die Schwetzinger Gr
 ünen laden ein zu einem Stadtrundgang zum Thema Barrierefreiheit und Ink
 lusion mit der Bundestagsabgeordneten Stephanie Aeffner.\n\nAeffner ist i
 n der grünen Bundestagsfraktion zuständig für Sozialpolitik und Barrie
 refreiheit.\n\nMit der Umsetzung von Barrierefreiheit in den Kommunen war
  sie bereits in ihrer früheren Tätigkeit als Landesbehindertenbeauftrag
 te in Baden-Württemberg intensiv befasst. Dabei geht es um gleichberecht
 igte Teilhabe aller und menschenrechtliche Verpflichtungen. Aber ebenso u
 m Antworten auf den demografischen Wandel\, was auch ein Standortfaktor f
 ür die heimische Wirtschaft ist.\n\nBei der Begehung in Schwetzingen wer
 den die vielfältigen Aspekte direkt vor Ort beleuchtet. Im Anschluss ste
 ht Stephanie Aeffner auch für weitere sozialpolitische Themen und Fragen
  zur Bundespolitik zur Verfügung.\n\nDer etwa einstündige Stadtrundgang
  startet am Dienstag\, den 21. Mai um 18.30 Uhr am Bahnhof Schwetzingen (
 vor dem Bahnhofsgebäude). Anschließend ist für die Gruppe ein Tisch in
  einem Lokal reserviert.\n\nAb 20 Uhr sind unter dem Motto „Schwetzinge
 n trifft Berlin“ alle interessierten Bürgerinnen und Bürger eingelade
 n im Welde-Brauhaus\, Mannheimer Straße 2\, mit der Abgeordneten und den
  Schwetzinger Grünen bei einem kühlen Getränk ins Gespräch zu kommen.
  Der Zugang zum Lokal ist barrierefrei.
CLASS:PUBLIC
DTSTART;TZID=Europe/Berlin:20240521T183000
DTEND;TZID=Europe/Berlin:20240521T193000
DTSTAMP:20260421T065600
END:VEVENT
END:VCALENDAR