BEGIN:VCALENDAR
VERSION:2.0
PRODID:aeffnerstephanie.de
METHOD:PUBLISH
BEGIN:VTIMEZONE
TZID:Europe/Berlin
X-LIC-LOCATION:Europe/Berlin
BEGIN:DAYLIGHT
TZOFFSETFROM:+0100
TZOFFSETTO:+0200
TZNAME:CEST
DTSTART:19700329T020000
RRULE:FREQ=YEARLY;INTERVAL=1;BYDAY=-1SU;BYMONTH=3
END:DAYLIGHT
BEGIN:STANDARD
TZOFFSETFROM:+0200
TZOFFSETTO:+0100
TZNAME:CET
DTSTART:19701025T030000
RRULE:FREQ=YEARLY;INTERVAL=1;BYDAY=-1SU;BYMONTH=10
END:STANDARD
END:VTIMEZONE
BEGIN:VEVENT
UID:29d768c16c2cf1160479aa03dc751eb5@aeffnerstephanie.de
URL;VALUE=URI:https://aeffnerstephanie.de/termine/sichere-mobilitaet-fuer
 -alle/
LOCATION:Kulturhaus Osterfeld, 75172 Pforzheim
SUMMARY:„Sichere Mobilität für alle“
DESCRIPTION;ALTREP="data:text/html,%0A%3Cp%3E%3Cstrong%3EStephanie%20Aeff
 ner%3C%2Fstrong%3E%20l%C3%A4dt%20ein%20zum%20Gespr%C3%A4ch%20mit%20ihrer%
 20Fraktionskollegin%20Swantje%20Michaelsen%20am%20Dienstag%2C%20den%2016.
 04.2024%20um%2019%3A30%20Uhr%20ins%20Kulturhaus%20Osterfeld%20in%20Pforzh
 eim%20%284.%20Stock%29%3C%2Fp%3E%0A%0A%0A%0A%3Cp%3E%3Cstrong%3ESwantje%20
 Michaelsen%3C%2Fstrong%3E%20ist%20Sprecherin%20f%C3%BCr%20Rad-%20und%20Fu
 %C3%9Fverkehr%2C%20Stra%C3%9Fenverkehrsrecht%20sowie%20Verkehrssicherheit
 %20der%20gr%C3%BCnen%20Bundestagsfraktion.%3C%2Fp%3E%0A%0A%0A%0A%3Cp%3ETh
 ema%20des%20Abends%3A%20%3Cstrong%3ESichere%20Mobilit%C3%A4t%20f%C3%BCr%2
 0alle%3C%2Fstrong%3E%3C%2Fp%3E%0A%0A%0A%0A%3Cp%3EWie%20gelingt%20eine%20s
 ichere%20Verkehrsgestaltung%20f%C3%BCr%20%3C%2Fp%3E%0A%0A%0A%0A%3Cul%20cl
 ass%3D%22wp-block-list%22%3E%0A%3Cli%3EFu%C3%9Fg%C3%A4nger%2Ainnen%2C%3C%
 2Fli%3E%0A%0A%0A%0A%3Cli%3EFrauen%2C%3C%2Fli%3E%0A%0A%0A%0A%3Cli%3EKinder
 %2C%3C%2Fli%3E%0A%0A%0A%0A%3Cli%3EMenschen%20mit%20Behinderungen%2C%3C%2F
 li%3E%0A%0A%0A%0A%3Cli%3ERadfahrer%2Ainnen%20sowie%3C%2Fli%3E%0A%0A%0A%0A
 %3Cli%3EAutofahrer%2Ainnen%3F%3C%2Fli%3E%0A%3C%2Ful%3E%0A%0A%0A%0A%3Cp%3E
 Wie%20k%C3%B6nnen%20Belange%20der%20Anwohner%2Ainnen%20besser%20ber%C3%BC
 cksichtigt%20werden%3F%20%3C%2Fp%3E%0A%0A%0A%0A%3Cp%3EWie%20schaffen%20wi
 r%20lebendige%20Ortsmitten%3F%3C%2Fp%3E%0A%0A%0A%0A%3Cp%3EWie%20kann%20de
 r%20%C3%B6ffentliche%20Raum%20so%20gestaltet%20werden%2C%20dass%20er%20gu
 te%20Bedingungen%20f%C3%BCr%20Gewerbetreibende%20bietet%3F%3C%2Fp%3E%0A%0
 A%0A%0A%3Cp%3EDie%20beiden%20gr%C3%BCnen%20Bundestagsabgeordneten%20freue
 n%20sich%20auf%20den%20Austausch%20mit%20Vertreter%2Ainnen%20von%20Intere
 ssensgruppen%20und%20interessierten%20B%C3%BCrger%2Ainnen.%3C%2Fp%3E%0A":
 Stephanie Aeffner lädt ein zum Gespräch mit ihrer Fraktionskollegin Swa
 ntje Michaelsen am Dienstag\, den 16.04.2024 um 19:30 Uhr ins Kulturhaus 
 Osterfeld in Pforzheim (4. Stock)\n\nSwantje Michaelsen ist Sprecherin f
 ür Rad- und Fußverkehr\, Straßenverkehrsrecht sowie Verkehrssicherheit
  der grünen Bundestagsfraktion.\n\nThema des Abends: Sichere Mobilität 
 für alle\n\nWie gelingt eine sichere Verkehrsgestaltung für\n\nFußgän
 ger*innen\,\n\nFrauen\,\n\nKinder\,\n\nMenschen mit Behinderungen\,\n\nRa
 dfahrer*innen sowie\n\nAutofahrer*innen?\n\nWie können Belange der Anwoh
 ner*innen besser berücksichtigt werden?\n\nWie schaffen wir lebendige Or
 tsmitten?\n\nWie kann der öffentliche Raum so gestaltet werden\, dass er
  gute Bedingungen für Gewerbetreibende bietet?\n\nDie beiden grünen Bun
 destagsabgeordneten freuen sich auf den Austausch mit Vertreter*innen von
  Interessensgruppen und interessierten Bürger*innen.
CLASS:PUBLIC
DTSTART;TZID=Europe/Berlin:20240416T193000
DTEND;TZID=Europe/Berlin:20240416T203000
DTSTAMP:20260421T042056
END:VEVENT
END:VCALENDAR