BEGIN:VCALENDAR
VERSION:2.0
PRODID:aeffnerstephanie.de
METHOD:PUBLISH
BEGIN:VTIMEZONE
TZID:Europe/Berlin
X-LIC-LOCATION:Europe/Berlin
BEGIN:DAYLIGHT
TZOFFSETFROM:+0100
TZOFFSETTO:+0200
TZNAME:CEST
DTSTART:19700329T020000
RRULE:FREQ=YEARLY;INTERVAL=1;BYDAY=-1SU;BYMONTH=3
END:DAYLIGHT
BEGIN:STANDARD
TZOFFSETFROM:+0200
TZOFFSETTO:+0100
TZNAME:CET
DTSTART:19701025T030000
RRULE:FREQ=YEARLY;INTERVAL=1;BYDAY=-1SU;BYMONTH=10
END:STANDARD
END:VTIMEZONE
BEGIN:VEVENT
UID:4057b32ec0ec3c70a154cb12227a761c@aeffnerstephanie.de
URL;VALUE=URI:https://aeffnerstephanie.de/termine/sprechstunde-mit-politi
 k/
LOCATION:Westliche Karl-Friedrichstr. 28, 75172 Pforzheim
SUMMARY:Bürger*innen Sprechstunde
DESCRIPTION;ALTREP="data:text/html,%0A%3Cp%3EDie%20gr%C3%BCne%20Bundestag
 sabgeordnete%20Stephanie%20Aeffner%20bietet%20f%C3%BCr%20interessierte%20
 B%C3%BCrgerinnen%20und%20B%C3%BCrger%20am%20%3Cstrong%3E07.%20Februar%202
 024%20ab%2016%20Uhr%20%3C%2Fstrong%3Eeine%20Sprechstunde%20in%20ihrem%20W
 ahlkreisb%C3%BCro%20in%20der%20Fu%C3%9Fg%C3%A4ngerzone%20in%20Pforzheim%2
 0an.%20Bei%20Interesse%20melden%20Sie%20sich%20bitte%20vorher%20an%2C%20d
 amit%20wir%20einen%20Gespr%C3%A4chstermin%20f%C3%BCr%20Sie%20einplanen%20
 k%C3%B6nnen.%20%3C%2Fp%3E%0A%0A%0A%0A%3Cp%3EBitte%20schicken%20Sie%20ihre
 n%20%3Cstrong%3EGespr%C3%A4chswunsch%20%3C%2Fstrong%3Eper%20Email%20an%20
 das%20Wahlkreisb%C3%BCro%20%3Ca%20href%3D%22mailto%3Astephanie.aeffner.wk
 %40bundestag.de%22%3Estephanie.aeffner.wk%40bundestag.de%3C%2Fa%3E.%20Sie
 %20k%C3%B6nnen%20Ihr%20Anliegen%20auch%20telefonisch%20anmelden%20unter%2
 007231%204194%20468%20an.%20Geben%20Sie%20beim%20Anrufbeantworter%20bitte
 %20Name%20und%20Telefonnummer%20an%2C%20damit%20wir%20Sie%20zur%20Termina
 bstimmung%20zur%C3%BCckrufen%20k%C3%B6nnen.%20%20%3C%2Fp%3E%0A%0A%0A%0A%3
 Cp%3E%3C%2Fp%3E%0A%0A%0A%0A%3Cp%3E%3C%2Fp%3E%0A%0A%0A%0A%3Cp%3E%3C%2Fp%3E
 %0A":Die grüne Bundestagsabgeordnete Stephanie Aeffner bietet für inter
 essierte Bürgerinnen und Bürger am 07. Februar 2024 ab 16 Uhr eine Spre
 chstunde in ihrem Wahlkreisbüro in der Fußgängerzone in Pforzheim an. 
 Bei Interesse melden Sie sich bitte vorher an\, damit wir einen Gespräch
 stermin für Sie einplanen können.\n\nBitte schicken Sie ihren Gespräch
 swunsch per Email an das Wahlkreisbüro stephanie.aeffner.wk@bundestag.de
 . Sie können Ihr Anliegen auch telefonisch anmelden unter 07231 4194 468
  an. Geben Sie beim Anrufbeantworter bitte Name und Telefonnummer an\, da
 mit wir Sie zur Terminabstimmung zurückrufen können.
CLASS:PUBLIC
DTSTART;TZID=Europe/Berlin:20240207T160000
DTEND;TZID=Europe/Berlin:20240207T170000
DTSTAMP:20260421T041058
END:VEVENT
END:VCALENDAR